BEGIN:VCALENDAR
VERSION:2.0
PRODID:SchoolNow
CALSCALE:GREGORIAN
BEGIN:VEVENT
UID:eb039192-e99d-11eb-b73e-0ace1ba724b1
DTSTAMP:20210720T210322Z
SUMMARY:Holiday - President's Day - Campus Closed - Feb. 11
URL;VALUE=URI:https://www.frc.edu/about/calendar/2643553/holiday-labor-day-
 campus-closed-clone-clone
DTSTART;VALUE=DATE:20220211
DTEND;VALUE=DATE:20220212
END:VEVENT
END:VCALENDAR
