BEGIN:VCALENDAR
VERSION:2.0
PRODID:SchoolNow
CALSCALE:GREGORIAN
BEGIN:VEVENT
UID:157782ce-e99b-11eb-b691-0e4daf4baf0d
DTSTAMP:20210720T204305Z
SUMMARY:Spring 2022 Priority Registration for Non-Matriculated New and Cont
 inuing Students
URL;VALUE=URI:https://www.frc.edu/about/calendar/2643541/spring-2022-priori
 ty-registration-for-homeless-vets-eops-dsps-foster-youth-calworks-care-clo
 ne-clone-clone
DTSTART;VALUE=DATE:20211115
DTEND;VALUE=DATE:20211118
END:VEVENT
END:VCALENDAR
