BEGIN:VCALENDAR
VERSION:2.0
PRODID:SchoolNow
CALSCALE:GREGORIAN
BEGIN:VEVENT
UID:e81e361a-e99a-11eb-b97a-0e4daf4baf0d
DTSTAMP:20210720T204210Z
SUMMARY:Spring 2022 Priority Registration for Fully Matriculated New and Co
 ntinuing Students
URL;VALUE=URI:https://www.frc.edu/about/calendar/2643540/spring-2022-priori
 ty-registration-for-homeless-vets-eops-dsps-foster-youth-calworks-care-clo
 ne-clone
DTSTART;VALUE=DATE:20211031
DTEND;VALUE=DATE:20211103
END:VEVENT
END:VCALENDAR
