BEGIN:VCALENDAR
VERSION:2.0
PRODID:SchoolNow
CALSCALE:GREGORIAN
BEGIN:VEVENT
UID:838902a8-e98f-11eb-9071-0e17b887e963
DTSTAMP:20210720T192016Z
SUMMARY:January Time Sheets Due
URL;VALUE=URI:https://www.frc.edu/about/calendar/2643521/june-time-sheets-d
 ue-clone-clone-clone-clone-clone-clone-clone
DTSTART;VALUE=DATE:20220131
DTEND;VALUE=DATE:20220201
END:VEVENT
END:VCALENDAR
