BEGIN:VCALENDAR
VERSION:2.0
PRODID:SchoolNow
CALSCALE:GREGORIAN
BEGIN:VEVENT
UID:7882418a-e98f-11eb-85a6-0e17b887e963
DTSTAMP:20210720T191957Z
SUMMARY:December Time Sheets Due
URL;VALUE=URI:https://www.frc.edu/about/calendar/2643520/june-time-sheets-d
 ue-clone-clone-clone-clone-clone-clone
DTSTART;VALUE=DATE:20220103
DTEND;VALUE=DATE:20220104
END:VEVENT
END:VCALENDAR
