BEGIN:VCALENDAR
VERSION:2.0
PRODID:SchoolNow
CALSCALE:GREGORIAN
BEGIN:VEVENT
UID:62b3bc44-e98f-11eb-9b10-0e17b887e963
DTSTAMP:20210720T191921Z
SUMMARY:November Time Sheets Due
URL;VALUE=URI:https://www.frc.edu/about/calendar/2643519/june-time-sheets-d
 ue-clone-clone-clone-clone-clone
DTSTART;VALUE=DATE:20211130
DTEND;VALUE=DATE:20211201
END:VEVENT
END:VCALENDAR
