BEGIN:VCALENDAR
VERSION:2.0
PRODID:SchoolNow
CALSCALE:GREGORIAN
BEGIN:VEVENT
UID:d7b7e958-e98e-11eb-b33a-0e17b887e963
DTSTAMP:20210720T191527Z
SUMMARY:October Time Sheets Due
URL;VALUE=URI:https://www.frc.edu/about/calendar/2643518/june-time-sheets-d
 ue-clone-clone-clone-clone
DTSTART;VALUE=DATE:20211101
DTEND;VALUE=DATE:20211102
END:VEVENT
END:VCALENDAR
