BEGIN:VCALENDAR
VERSION:2.0
PRODID:SchoolNow
CALSCALE:GREGORIAN
BEGIN:VEVENT
UID:8afb1eba-e591-11eb-bd58-0aac383f5f01
DTSTAMP:20210715T172442Z
SUMMARY:All Fall 2021 Semester grades due by 4 pm
URL;VALUE=URI:https://www.frc.edu/about/calendar/2639722/all-fall-2021-seme
 ster-grades-due-by-4-pm
DTSTART:20211220T181900Z
DTEND:20211220T191900Z
END:VEVENT
END:VCALENDAR
