BEGIN:VCALENDAR
VERSION:2.0
PRODID:SchoolNow
CALSCALE:GREGORIAN
BEGIN:VEVENT
UID:738bb624-e58f-11eb-9ced-0a9c11f30fab
DTSTAMP:20210715T171100Z
SUMMARY:Holiday Recess - Campus Closed - Dec. 23\, 2021 through Jan. 2\, 20
 22
URL;VALUE=URI:https://www.frc.edu/about/calendar/2639716/holiday-recess-cam
 pus-closed-dec-23-2021-through-jan-2-2022
DTSTART:20211223T160000Z
DTEND:20220102T080000Z
END:VEVENT
END:VCALENDAR
