BEGIN:VCALENDAR
VERSION:2.0
PRODID:SchoolNow
CALSCALE:GREGORIAN
BEGIN:VEVENT
UID:f234bdbe-e58e-11eb-a9e0-0a9c11f30fab
DTSTAMP:20210715T170607Z
SUMMARY:Fall 2021 Semester Ends
URL;VALUE=URI:https://www.frc.edu/about/calendar/2639715/fall-2021-semester
 -ends
DTSTART:20211218T000000Z
DTEND:20211218T010000Z
END:VEVENT
END:VCALENDAR
