BEGIN:VCALENDAR
VERSION:2.0
PRODID:SchoolNow
CALSCALE:GREGORIAN
BEGIN:VEVENT
UID:c063c4d0-e58c-11eb-a161-0aac383f5f01
DTSTAMP:20210715T170252Z
SUMMARY:Final Examinations - Dec. 13 through Dec. 17 (Friday is a make-up d
 ay)
URL;VALUE=URI:https://www.frc.edu/about/calendar/2639701/final-examinations
 -dec-13-through-dec-17-friday-is-a-make-up-day
DTSTART:20211213T080000Z
DTEND:20211218T075900Z
ATTACH;FILENAME=FINALS_FALL.pdf;FMTTYPE=application/pdf:https://campussuite
 -storage.s3.amazonaws.com/prod/1558523/0672826e-a84b-11e7-9779-0ae3e1d9783
 c/1901642/e8a70112-46a8-11e9-8140-12c483487958/file/FINALS_FALL.pdf
END:VEVENT
END:VCALENDAR
