BEGIN:VCALENDAR
VERSION:2.0
PRODID:SchoolNow
CALSCALE:GREGORIAN
BEGIN:VEVENT
UID:2dbdf142-e58b-11eb-b417-0a9c11f30fab
DTSTAMP:20210715T163909Z
SUMMARY:Minimum Day for Instruction - Classes will be held until 1 pm
URL;VALUE=URI:https://www.frc.edu/about/calendar/2639652/minimum-day-for-in
 struction-classes-will-be-held-until-1-pm
DTSTART:20211124T173600Z
DTEND:20211124T183600Z
END:VEVENT
END:VCALENDAR
