BEGIN:VCALENDAR
VERSION:2.0
PRODID:SchoolNow
CALSCALE:GREGORIAN
BEGIN:VEVENT
UID:8b313baa-e58a-11eb-a744-0a9c11f30fab
DTSTAMP:20210715T164059Z
SUMMARY:Holiday - Thanksgiving - Campus Closed - Thursday 11/25 & Friday 11
 /26
URL;VALUE=URI:https://www.frc.edu/about/calendar/2639651/holiday-thanksgivi
 ng-campus-closed
DTSTART:20211125T173300Z
DTEND:20211126T183300Z
END:VEVENT
END:VCALENDAR
