BEGIN:VCALENDAR
VERSION:2.0
PRODID:SchoolNow
CALSCALE:GREGORIAN
BEGIN:VEVENT
UID:2f11fa80-e58a-11eb-9c76-0a9c11f30fab
DTSTAMP:20210715T164141Z
SUMMARY:Holiday - Veterans Day - Campus Closed - Nov. 11
URL;VALUE=URI:https://www.frc.edu/about/calendar/2639650/holiday-veterans-d
 ay-campus-closed
DTSTART:20211111T173100Z
DTEND:20211111T183100Z
END:VEVENT
END:VCALENDAR
