BEGIN:VCALENDAR
VERSION:2.0
PRODID:SchoolNow
CALSCALE:GREGORIAN
BEGIN:VEVENT
UID:60eebaa8-9d6d-11eb-a70b-0aa5254c966b
DTSTAMP:20210414T220426Z
SUMMARY:Baseball vs Lassen College (DH)
LOCATION:570 Golden Eagle Ave Quincy CA 95971
URL;VALUE=URI:https://www.frc.edu/about/calendar/2577358/baseball-vs-lassen
 -college-dh
DTSTART:20210515T190000Z
DTEND:20210515T200000Z
END:VEVENT
END:VCALENDAR
