BEGIN:VCALENDAR
VERSION:2.0
PRODID:SchoolNow
CALSCALE:GREGORIAN
BEGIN:VEVENT
UID:8ef3f7b0-181d-11e9-bff1-12230e23c01a
DTSTAMP:20190114T165804Z
SUMMARY:Canvas Workshop for Students
LOCATION:Main 201
URL;VALUE=URI:https://www.frc.edu/about/calendar/1931025/canvas-workshop-fo
 r-students
DTSTART:20190131T020000Z
DTEND:20190131T030000Z
END:VEVENT
END:VCALENDAR
