BEGIN:VCALENDAR
VERSION:2.0
PRODID:SchoolNow
CALSCALE:GREGORIAN
BEGIN:VEVENT
UID:521611b4-5e39-11e8-97a9-0a8810e81efa
DTSTAMP:20181115T204356Z
SUMMARY:Final Examinations (Friday is a make-up day)
URL;VALUE=URI:https://www.frc.edu/about/calendar/1784449/final-examinations
 -friday-is-a-make-up-day
DTSTART:20190520T070000Z
DTEND:20190525T065900Z
END:VEVENT
END:VCALENDAR
